BEGIN:VCALENDAR
VERSION:2.0
PRODID:-//Sales BootCamp Nigeria
CALSCALE:GREGORIAN
METHOD:PUBLISH
X-WR-CALNAME:Sales BootCamp Nigeria
X-ORIGINAL-URL:https://www.salesbootcamp.ng/product/strategic-sales-and-channel-development-3/
X-WR-CALDESC:Strategic Sales and Channel Development
BEGIN:VEVENT
DTSTART;TZID=Europe/London:20261113T100000
DTEND;TZID=Europe/London:20261114T160000
SUMMARY:Strategic Sales and Channel Development
DESCRIPTION:
URL:https://www.salesbootcamp.ng/product/strategic-sales-and-channel-development-3/
LOCATION:The Professional Place 9b, Ololade Odeyemi Close Anthony Village Lagos
END:VEVENT
END:VCALENDAR
