BEGIN:VCALENDAR
VERSION:2.0
PRODID:-//Sales BootCamp Nigeria
CALSCALE:GREGORIAN
METHOD:PUBLISH
X-WR-CALNAME:Sales BootCamp Nigeria
X-ORIGINAL-URL:https://www.salesbootcamp.ng/product/aggressive-market-penetration-strategies-3/
X-WR-CALDESC:Aggressive Market Penetration Strategies
BEGIN:VEVENT
DTSTART;TZID=Europe/London:20260916T000000
DTEND;TZID=Europe/London:20260918T000000
SUMMARY:Aggressive Market Penetration Strategies
DESCRIPTION:
URL:https://www.salesbootcamp.ng/product/aggressive-market-penetration-strategies-3/
LOCATION:
END:VEVENT
END:VCALENDAR
