BEGIN:VCALENDAR
VERSION:2.0
PRODID:-//Sales BootCamp Nigeria
CALSCALE:GREGORIAN
METHOD:PUBLISH
X-WR-CALNAME:Sales BootCamp Nigeria
X-ORIGINAL-URL:https://www.salesbootcamp.ng/product/aggressive-market-penetraton-strategies-3/
X-WR-CALDESC:Aggressive Market Penetraton Strategies
BEGIN:VEVENT
DTSTART;TZID=Europe/London:20230914T100000
DTEND;TZID=Europe/London:20230916T160000
SUMMARY:Aggressive Market Penetraton Strategies
DESCRIPTION:
URL:https://www.salesbootcamp.ng/product/aggressive-market-penetraton-strategies-3/
LOCATION:The Professional Place: 9b, Ololade Odeyemi Close Anthony Village Lagos
END:VEVENT
END:VCALENDAR
