BEGIN:VCALENDAR
VERSION:2.0
PRODID:-//Sales BootCamp Nigeria
CALSCALE:GREGORIAN
METHOD:PUBLISH
X-WR-CALNAME:Sales BootCamp Nigeria
X-ORIGINAL-URL:https://www.salesbootcamp.ng/product/strategic-marketing-management-practice/
X-WR-CALDESC:Strategic Marketing Management Practice
BEGIN:VEVENT
DTSTART;TZID=Europe/London:20260409T100000
DTEND;TZID=Europe/London:20260411T160000
SUMMARY:Strategic Marketing Management Practice
DESCRIPTION:
URL:https://www.salesbootcamp.ng/product/strategic-marketing-management-practice/
LOCATION:The Professional Place 9b, Ololade Odeyemi Close Anthony Village Lagos
END:VEVENT
END:VCALENDAR
