BEGIN:VCALENDAR
VERSION:2.0
PRODID:-//Sales BootCamp Nigeria
CALSCALE:GREGORIAN
METHOD:PUBLISH
X-WR-CALNAME:Sales BootCamp Nigeria
X-ORIGINAL-URL:https://www.salesbootcamp.ng/product/developing-effective-distribution-channels-optimizing-market-penetration/
X-WR-CALDESC:Developing Effective Distribution Channels: Optimizing Market Penetration
BEGIN:VEVENT
DTSTART;TZID=Europe/London:20260402T100000
DTEND;TZID=Europe/London:20260404T160000
SUMMARY:Developing Effective Distribution Channels: Optimizing Market Penetration
DESCRIPTION:
URL:https://www.salesbootcamp.ng/product/developing-effective-distribution-channels-optimizing-market-penetration/
LOCATION:The Professional Place 9b, Ololade Odeyemi Close Anthony Village Lagos
END:VEVENT
END:VCALENDAR
