BEGIN:VCALENDAR
VERSION:2.0
PRODID:-//Sales BootCamp Nigeria
CALSCALE:GREGORIAN
METHOD:PUBLISH
X-WR-CALNAME:Sales BootCamp Nigeria
X-ORIGINAL-URL:https://www.salesbootcamp.ng/product/key-accounts-management-skills-and-strategies-3/
X-WR-CALDESC:Key Accounts Management Skills and Strategies
BEGIN:VEVENT
DTSTART;TZID=Europe/London:20260515T100000
DTEND;TZID=Europe/London:20260516T160000
SUMMARY:Key Accounts Management Skills and Strategies
DESCRIPTION:
URL:https://www.salesbootcamp.ng/product/key-accounts-management-skills-and-strategies-3/
LOCATION:The Professional Place 9b, Ololade Odeyemi Close Anthony Village Lagos
END:VEVENT
END:VCALENDAR
